BEGIN:VCALENDAR
VERSION:2.0
PRODID:-//Academy of Self-Reliance - ECPv5.5.0.1//NONSGML v1.0//EN
CALSCALE:GREGORIAN
METHOD:PUBLISH
X-WR-CALNAME:Academy of Self-Reliance
X-ORIGINAL-URL:https://academyosr.com
X-WR-CALDESC:Events for Academy of Self-Reliance
BEGIN:VTIMEZONE
TZID:America/Denver
BEGIN:DAYLIGHT
TZOFFSETFROM:-0700
TZOFFSETTO:-0600
TZNAME:MDT
DTSTART:20200308T090000
END:DAYLIGHT
BEGIN:STANDARD
TZOFFSETFROM:-0600
TZOFFSETTO:-0700
TZNAME:MST
DTSTART:20201101T080000
END:STANDARD
END:VTIMEZONE
BEGIN:VEVENT
DTSTART;TZID=America/Denver:20200618T190000
DTEND;TZID=America/Denver:20200618T203000
DTSTAMP:20260423T154609
CREATED:20200617T012343Z
LAST-MODIFIED:20200617T014242Z
UID:12133-1592506800-1592512200@academyosr.com
SUMMARY:Wild Edible Plants
DESCRIPTION:Wild Edible Plants\n\nIn this lesson we will discuss: \n\n• What to be aware of before harvesting\n• General plant identification\n• Some edible plants that you will find in Utah plus one toxic look alike\n\nOur guest presenter will be Beuna Tomalino \n\nClick to register\n(The live event for this webinar lesson is free for those that register for the webinar.) \n\n\n    \n        	\n        To view the webinar lessons on demand and to have access to the additional lesson resources (i.e. assignments\, handouts and journal access)\, you will need to be a subscriber to “The Path” course.\n\nIf you have not subscribed to the course\, please join us by subscribing now.\n        \n            Subscribe Now\n        \n    \n
URL:https://academyosr.com/event/wild-edible-plants/
LOCATION:Webinar
CATEGORIES:Webinars
ATTACH;FMTTYPE=image/png:https://academyosr.com/wp-content/uploads/2020/06/wild_edible_plants-333x222-1.png
END:VEVENT
END:VCALENDAR