BEGIN:VCALENDAR
VERSION:2.0
PRODID:-//Academy of Self-Reliance - ECPv5.5.0.1//NONSGML v1.0//EN
CALSCALE:GREGORIAN
METHOD:PUBLISH
X-WR-CALNAME:Academy of Self-Reliance
X-ORIGINAL-URL:https://academyosr.com
X-WR-CALDESC:Events for Academy of Self-Reliance
BEGIN:VTIMEZONE
TZID:America/Denver
BEGIN:DAYLIGHT
TZOFFSETFROM:-0700
TZOFFSETTO:-0600
TZNAME:MDT
DTSTART:20190310T090000
END:DAYLIGHT
BEGIN:STANDARD
TZOFFSETFROM:-0600
TZOFFSETTO:-0700
TZNAME:MST
DTSTART:20191103T080000
END:STANDARD
END:VTIMEZONE
BEGIN:VEVENT
DTSTART;TZID=America/Denver:20190919T190000
DTEND;TZID=America/Denver:20190919T203000
DTSTAMP:20260420T101907
CREATED:20190913T032549Z
LAST-MODIFIED:20190919T171656Z
UID:6172-1568919600-1568925000@academyosr.com
SUMMARY:The Village Drill
DESCRIPTION:The Village Drill\n\n\nIn this lesson we will discuss: \n\n\n\nA means for saving $thousands on your well\nA water well in 3-4 days\n\n\n\nOur guest speaker will be Michael Anderson\, COO of The Village Drill. \n\nClick to register\n(The live event for this webinar lesson is free for those that register for the webinar.) \n\n\n    \n        	\n        To view the webinar lessons on demand and to have access to the additional lesson resources (i.e. assignments\, handouts and journal access)\, you will need to be a subscriber to “The Path” course.\n\nIf you have not subscribed to the course\, please join us by subscribing now.\n        \n            Subscribe Now\n        \n    \n
URL:https://academyosr.com/event/the-village-drill/
LOCATION:Webinar
CATEGORIES:Webinars
ATTACH;FMTTYPE=image/png:https://academyosr.com/wp-content/uploads/2019/09/the-village-drill-333x222.png
END:VEVENT
END:VCALENDAR