BEGIN:VCALENDAR
VERSION:2.0
PRODID:-//Academy of Self-Reliance - ECPv5.5.0.1//NONSGML v1.0//EN
CALSCALE:GREGORIAN
METHOD:PUBLISH
X-WR-CALNAME:Academy of Self-Reliance
X-ORIGINAL-URL:https://academyosr.com
X-WR-CALDESC:Events for Academy of Self-Reliance
BEGIN:VTIMEZONE
TZID:America/Denver
BEGIN:DAYLIGHT
TZOFFSETFROM:-0700
TZOFFSETTO:-0600
TZNAME:MDT
DTSTART:20220313T090000
END:DAYLIGHT
BEGIN:STANDARD
TZOFFSETFROM:-0600
TZOFFSETTO:-0700
TZNAME:MST
DTSTART:20221106T080000
END:STANDARD
END:VTIMEZONE
BEGIN:VEVENT
DTSTART;TZID=America/Denver:20220302T200000
DTEND;TZID=America/Denver:20220302T210000
DTSTAMP:20260420T133532
CREATED:20220204T205622Z
LAST-MODIFIED:20220204T205622Z
UID:20908-1646251200-1646254800@academyosr.com
SUMMARY:The Preparedness Pathway - Discoveries Along the Path to Self-Reliance
DESCRIPTION:“What are you going to do if the crisis lasts 2 weeks longer than your food storage?”\nAcademy of Self-Reliance founder\, Philip Gleason\, was confronted with this unsettling question as a young father. It popped into his mind immediately after patting himself on the back for gathering a 2-year’s supply of food and water for his growing family. \nJoin our host\, Jesse Fisher\, in tracing Philip’s life-altering journey as he overcame obstacles on his trek towards achieving total self-reliance for his family\, and\, the resulting joint initiative called “Operation Self-Reliance”.  Extensive live Q&A follows. \nRequirements: \n\nA device with speakers.\nEither a keyboard to type in questions\, or\, a microphone.\nIt’s best to download Zoom to your device if you haven’t already.\nRegister for the Zoom call here.\nNo mask or social distancing required! \n\nMore info for the detail-oriented:\nAfter briefly introducing his own journey that led him to embrace Philip’s vision for independent\, self-reliant families\, host Jesse Fisher\, will present Philip’s story and it’s resulting “Operation Self-Reliance”\, answer any questions regarding it and/or the Academy of Self-Reliance. \nPhilip’s progress along that path resulted in the founding of the Academy of Self-Reliance. The Academy is an IRS-registered 501(c)(3) educational non-profit which is already helping families and individuals develop transition plans to move from a city lifestyle of competition and dependencies (for food\, water\, shelter\, energy and sanitation) to a debt-free\, rural lifestyle of self-reliance. \nThe Utah OSR Land Cooperative\, Utah’s 1st and only non-profit land developer. was organized under Title 3 of the Utah Code as an agricultural cooperative.  The Co-op has purchased 1\,245 acres of farmland in Western Utah and is creating Utah’s first modern farmsteading community.  Over 45 families are currently shareholders in this self-reliance project.
URL:https://academyosr.com/event/the-preparedness-pathway-discoveries-along-the-path-to-self-reliance-40/
LOCATION:Online\, UT
CATEGORIES:Cottage Meetings
ATTACH;FMTTYPE=image/png:https://academyosr.com/wp-content/uploads/2020/05/FB-Group-OSR-The-Next-Great-Frontier.png
GEO:35.9544013;-83.9294564
END:VEVENT
END:VCALENDAR