BEGIN:VCALENDAR
VERSION:2.0
PRODID:-//Academy of Self-Reliance - ECPv5.5.0.1//NONSGML v1.0//EN
CALSCALE:GREGORIAN
METHOD:PUBLISH
X-WR-CALNAME:Academy of Self-Reliance
X-ORIGINAL-URL:https://academyosr.com
X-WR-CALDESC:Events for Academy of Self-Reliance
BEGIN:VTIMEZONE
TZID:America/Denver
BEGIN:DAYLIGHT
TZOFFSETFROM:-0700
TZOFFSETTO:-0600
TZNAME:MDT
DTSTART:20180311T090000
END:DAYLIGHT
BEGIN:STANDARD
TZOFFSETFROM:-0600
TZOFFSETTO:-0700
TZNAME:MST
DTSTART:20181104T080000
END:STANDARD
END:VTIMEZONE
BEGIN:VEVENT
DTSTART;TZID=America/Denver:20181021T190000
DTEND;TZID=America/Denver:20181021T210000
DTSTAMP:20260420T085426
CREATED:20181014T053518Z
LAST-MODIFIED:20181019T170230Z
UID:1416-1540148400-1540155600@academyosr.com
SUMMARY:St. George Utah Cottage Meeting
DESCRIPTION:Philip Gleason will present “The Path” project and answer question regarding it. \nHosted by:  Kevin Greenleese
URL:https://academyosr.com/event/st-george-utah-cottage-meeting/
LOCATION:St. George\, UT\, United States
CATEGORIES:Cottage Meetings
GEO:39.3209801;-111.0937311
END:VEVENT
END:VCALENDAR