BEGIN:VCALENDAR
VERSION:2.0
PRODID:-//Academy of Self-Reliance - ECPv5.5.0.1//NONSGML v1.0//EN
CALSCALE:GREGORIAN
METHOD:PUBLISH
X-WR-CALNAME:Academy of Self-Reliance
X-ORIGINAL-URL:https://academyosr.com
X-WR-CALDESC:Events for Academy of Self-Reliance
BEGIN:VTIMEZONE
TZID:America/Denver
BEGIN:DAYLIGHT
TZOFFSETFROM:-0700
TZOFFSETTO:-0600
TZNAME:MDT
DTSTART:20190310T090000
END:DAYLIGHT
BEGIN:STANDARD
TZOFFSETFROM:-0600
TZOFFSETTO:-0700
TZNAME:MST
DTSTART:20191103T080000
END:STANDARD
END:VTIMEZONE
BEGIN:VEVENT
DTSTART;TZID=America/Denver:20190905T190000
DTEND;TZID=America/Denver:20190905T203000
DTSTAMP:20260420T102314
CREATED:20190829T233347Z
LAST-MODIFIED:20190829T234304Z
UID:6119-1567710000-1567715400@academyosr.com
SUMMARY:Solutions to the Threats for the Honey Bees
DESCRIPTION:Solutions to the Threats for the Honey Bees\n\nIn this lesson we will discuss threats to honey bees such: \n\n\n\nHabitat Loss\nPesticides\nDisease\nEven Herbicides\n\n\n\nAnd\, what are the solutions to these threats. \n\nClick to register\n(The live event for this webinar lesson is free for those that register for the webinar.) \n\n\n    \n        	\n        To view the webinar lessons on demand and to have access to the additional lesson resources (i.e. assignments\, handouts and journal access)\, you will need to be a subscriber to “The Path” course.\n\nIf you have not subscribed to the course\, please join us by subscribing now.\n        \n            Subscribe Now\n        \n    \n
URL:https://academyosr.com/event/solutions-to-the-threats-for-the-honey-bees/
LOCATION:Webinar
CATEGORIES:Webinars
ATTACH;FMTTYPE=image/jpeg:https://academyosr.com/wp-content/uploads/2019/08/two-honey-bees-333x222.jpg
END:VEVENT
END:VCALENDAR