BEGIN:VCALENDAR
VERSION:2.0
PRODID:-//Academy of Self-Reliance - ECPv5.5.0.1//NONSGML v1.0//EN
CALSCALE:GREGORIAN
METHOD:PUBLISH
X-WR-CALNAME:Academy of Self-Reliance
X-ORIGINAL-URL:https://academyosr.com
X-WR-CALDESC:Events for Academy of Self-Reliance
BEGIN:VTIMEZONE
TZID:America/Denver
BEGIN:DAYLIGHT
TZOFFSETFROM:-0700
TZOFFSETTO:-0600
TZNAME:MDT
DTSTART:20230312T090000
END:DAYLIGHT
BEGIN:STANDARD
TZOFFSETFROM:-0600
TZOFFSETTO:-0700
TZNAME:MST
DTSTART:20231105T080000
END:STANDARD
END:VTIMEZONE
BEGIN:VEVENT
DTSTART;TZID=America/Denver:20230208T200000
DTEND;TZID=America/Denver:20230208T210000
DTSTAMP:20260420T053857
CREATED:20220412T032517Z
LAST-MODIFIED:20230208T214730Z
UID:21040-1675886400-1675890000@academyosr.com
SUMMARY:Riverbed Ranch Live Q&A
DESCRIPTION:Get your questions answered about Riverbed Ranch off-grid farming community\, and\, hear others’ questions and their answers too! \n \nThis is a very low-key\, live\, open-mic Q&A session about OSR’s Riverbed Ranch.\nFeel free to ask questions about: \n\nThe Riverbed Ranch off-grid farming community.\nThe Utah OSR Land Cooperative (Utah’s only non-profit land developer)\,\nThe Academy’s Path Training series\, helping families design their own farm.\n\nIMPORTANT: You must  to join the call . \nNOTE: You don’t have to have a webcam to participate. And you’ll be able to type in your questions if you don’t have a microphone. \nPreparation for the Event \nIf you have not watched our first intro video\, please do so here:  \nOther than that! Come as you are! No mask required. \nIf you have a spouse\, invite them too!
URL:https://academyosr.com/event/riverbed-ranch-qa/2023-02-08/
LOCATION:Online\, UT
CATEGORIES:Cottage Meetings
GEO:35.9544013;-83.9294564
END:VEVENT
END:VCALENDAR