BEGIN:VCALENDAR
VERSION:2.0
PRODID:-//Academy of Self-Reliance - ECPv5.5.0.1//NONSGML v1.0//EN
CALSCALE:GREGORIAN
METHOD:PUBLISH
X-WR-CALNAME:Academy of Self-Reliance
X-ORIGINAL-URL:https://academyosr.com
X-WR-CALDESC:Events for Academy of Self-Reliance
BEGIN:VTIMEZONE
TZID:America/Denver
BEGIN:DAYLIGHT
TZOFFSETFROM:-0700
TZOFFSETTO:-0600
TZNAME:MDT
DTSTART:20180311T090000
END:DAYLIGHT
BEGIN:STANDARD
TZOFFSETFROM:-0600
TZOFFSETTO:-0700
TZNAME:MST
DTSTART:20181104T080000
END:STANDARD
END:VTIMEZONE
BEGIN:VEVENT
DTSTART;TZID=America/Denver:20181101T190000
DTEND;TZID=America/Denver:20181101T203000
DTSTAMP:20260420T055525
CREATED:20181014T031847Z
LAST-MODIFIED:20181105T234150Z
UID:1388-1541098800-1541104200@academyosr.com
SUMMARY:My Journey Begins
DESCRIPTION:Discussion:\n“My Journey Begins” — As with any journey\, the first step begins with knowing where you want to go. The next is knowing where you are at\, which is always the best place to start. The rest is in the planning. This course provides direction and resources needed to begin. Join with us and begin your journey! \nIn this webinar\, we will cover: \n\nKnowing what is wanted\,\nUtilizing assessments\,\nHow to formulate a plan\,\nThe PIER method of review\,\nAre my actions & choices commensurate with my goals\,\nIntroduction to your online journal\n\n\n\n\n    \n        	\n        To view the webinar lessons on demand and to have access to the additional lesson resources (i.e. assignments\, handouts and journal access)\, you will need to be a subscriber to “The Path” course.\n\nIf you have not subscribed to the course\, please join us by subscribing now.\n        \n            Subscribe Now\n        \n    \n
URL:https://academyosr.com/event/my-journey-begins/
LOCATION:Webinar
CATEGORIES:Webinars
ATTACH;FMTTYPE=image/png:https://academyosr.com/wp-content/uploads/2018/10/Screen-Shot-2018-10-04-at-7.21.59-PM.png
END:VEVENT
END:VCALENDAR