BEGIN:VCALENDAR
VERSION:2.0
PRODID:-//Academy of Self-Reliance - ECPv5.5.0.1//NONSGML v1.0//EN
CALSCALE:GREGORIAN
METHOD:PUBLISH
X-WR-CALNAME:Academy of Self-Reliance
X-ORIGINAL-URL:https://academyosr.com
X-WR-CALDESC:Events for Academy of Self-Reliance
BEGIN:VTIMEZONE
TZID:America/Denver
BEGIN:DAYLIGHT
TZOFFSETFROM:-0700
TZOFFSETTO:-0600
TZNAME:MDT
DTSTART:20200308T090000
END:DAYLIGHT
BEGIN:STANDARD
TZOFFSETFROM:-0600
TZOFFSETTO:-0700
TZNAME:MST
DTSTART:20201101T080000
END:STANDARD
END:VTIMEZONE
BEGIN:VEVENT
DTSTART;TZID=America/Denver:20200728T160000
DTEND;TZID=America/Denver:20200729T140000
DTSTAMP:20260424T045608
CREATED:20200630T181431Z
LAST-MODIFIED:20200630T213258Z
UID:12446-1595952000-1596031200@academyosr.com
SUMMARY:Meteor shower and celebration
DESCRIPTION:Come join us for a get together to watch the meteor shower and to celebrate getting the Co-op in our name! \nPlan on arriving on Tuesday anytime after 4 pm.  We will get our camps set up\, then do a pot luck dinner with everyone around 6 pm.  At around 8 pm we will do S’mores. Outdoor campfires will be in designated areas only!  You are welcome to any activity you would like to do with your family\, EXCEPT  fireworks or anything that could possibly start a fire.  It’s very dry out there\, so we need to be very careful.  The meteor shower takes place in the wee hours of the night. On Wednesday\, we will start packing up and leaving around 2 pm. \nYou will need to bring the following: \n\ncamping equipment\nflashlights and headlamps for night trips to the potties. 🙂\nOwn eating untensils: dishes\, knives\, forks\, spoons\, serving spoons\, drinking cups\nroasting sticks for s’mores\nfood\ngarbage bags to haul out your own garbage.\n\nPorta potties will be provided\, along with hand washing stations.
URL:https://academyosr.com/event/meteor-shower-and-celebration/
LOCATION:Riverbed Ranch\, United States
CATEGORIES:Socials
GEO:39.887977;-112.8155405
END:VEVENT
END:VCALENDAR