BEGIN:VCALENDAR
VERSION:2.0
PRODID:-//Academy of Self-Reliance - ECPv5.5.0.1//NONSGML v1.0//EN
CALSCALE:GREGORIAN
METHOD:PUBLISH
X-WR-CALNAME:Academy of Self-Reliance
X-ORIGINAL-URL:https://academyosr.com
X-WR-CALDESC:Events for Academy of Self-Reliance
BEGIN:VTIMEZONE
TZID:America/Denver
BEGIN:DAYLIGHT
TZOFFSETFROM:-0700
TZOFFSETTO:-0600
TZNAME:MDT
DTSTART:20200308T090000
END:DAYLIGHT
BEGIN:STANDARD
TZOFFSETFROM:-0600
TZOFFSETTO:-0700
TZNAME:MST
DTSTART:20201101T080000
END:STANDARD
END:VTIMEZONE
BEGIN:VEVENT
DTSTART;TZID=America/Denver:20200326T190000
DTEND;TZID=America/Denver:20200326T203000
DTSTAMP:20260420T042238
CREATED:20200216T223527Z
LAST-MODIFIED:20200217T013858Z
UID:8548-1585249200-1585254600@academyosr.com
SUMMARY:Making Yogurt and Cream Cheese
DESCRIPTION:Making Yogurt and Cream Cheese\n\nIn this lesson we will discuss: \n\n• Yogurt: 1/2 cup of your last homemade yogurt starts the next batch\n• Yogurt\, healthy cultured food- so many ways to dress up your yogurt\n• Easy to make and so delicious- cream cheese\n\nOur guest speakers will be Elisha Goodson and Brenda Christensen \n\nClick to register\n(The live event for this webinar lesson is free for those that register for the webinar.) \n\n\n    \n        	\n        To view the webinar lessons on demand and to have access to the additional lesson resources (i.e. assignments\, handouts and journal access)\, you will need to be a subscriber to “The Path” course.\n\nIf you have not subscribed to the course\, please join us by subscribing now.\n        \n            Subscribe Now\n        \n    \n
URL:https://academyosr.com/event/making-yogurt-and-cream-cheese/
LOCATION:Webinar
CATEGORIES:Webinars
ATTACH;FMTTYPE=image/png:https://academyosr.com/wp-content/uploads/2020/02/making-yogurt-333x222-1.png
END:VEVENT
END:VCALENDAR