BEGIN:VCALENDAR
VERSION:2.0
PRODID:-//Academy of Self-Reliance - ECPv5.5.0.1//NONSGML v1.0//EN
CALSCALE:GREGORIAN
METHOD:PUBLISH
X-WR-CALNAME:Academy of Self-Reliance
X-ORIGINAL-URL:https://academyosr.com
X-WR-CALDESC:Events for Academy of Self-Reliance
BEGIN:VTIMEZONE
TZID:America/Denver
BEGIN:DAYLIGHT
TZOFFSETFROM:-0700
TZOFFSETTO:-0600
TZNAME:MDT
DTSTART:20180311T090000
END:DAYLIGHT
BEGIN:STANDARD
TZOFFSETFROM:-0600
TZOFFSETTO:-0700
TZNAME:MST
DTSTART:20181104T080000
END:STANDARD
END:VTIMEZONE
BEGIN:VEVENT
DTSTART;TZID=America/Denver:20181004T193000
DTEND;TZID=America/Denver:20181004T203000
DTSTAMP:20260420T151422
CREATED:20181003T032851Z
LAST-MODIFIED:20181105T201055Z
UID:817-1538681400-1538685000@academyosr.com
SUMMARY:Introduction to "THE PATH" - 7:30 pm
DESCRIPTION:My dear Brothers & Sisters\, \nWe are very excited to invite you to our soft roll-out of the Eagar\, AZ project that we have been talking about for several months. This is a sneak preview of the new presentation and an introduction to the Academy of Self-Reliance web site https://academyosr.com. The Academy is the education arm of our co-operative enterprise helping individuals and families transition from a city life-style to a country culture\, remaining debt free\, having gone green using alternative energies\, being self-reliant and with like-minded neighbors.\n\nThis is a private viewing for you\, your family and friends. Register in advance for this webinar with the link below. Our team has worked very hard fast tracking this project.\n\nOur big social media event will be\, October 11\, 2018 at 7:30pm. When we will go live to the public.\n\nThese webinars are for member-subscribers. If you have not subscribed\, please join us by subscribing now. \nSubscribe Now
URL:https://academyosr.com/event/introduction-to-the-path-730-pm/
LOCATION:Webinar
CATEGORIES:Webinars
ATTACH;FMTTYPE=image/png:https://academyosr.com/wp-content/uploads/2018/10/forest-path-200x130.png
END:VEVENT
END:VCALENDAR