BEGIN:VCALENDAR
VERSION:2.0
PRODID:-//Academy of Self-Reliance - ECPv5.5.0.1//NONSGML v1.0//EN
CALSCALE:GREGORIAN
METHOD:PUBLISH
X-WR-CALNAME:Academy of Self-Reliance
X-ORIGINAL-URL:https://academyosr.com
X-WR-CALDESC:Events for Academy of Self-Reliance
BEGIN:VTIMEZONE
TZID:America/Denver
BEGIN:DAYLIGHT
TZOFFSETFROM:-0700
TZOFFSETTO:-0600
TZNAME:MDT
DTSTART:20190310T090000
END:DAYLIGHT
BEGIN:STANDARD
TZOFFSETFROM:-0600
TZOFFSETTO:-0700
TZNAME:MST
DTSTART:20191103T080000
END:STANDARD
END:VTIMEZONE
BEGIN:VEVENT
DTSTART;TZID=America/Denver:20191125T190000
DTEND;TZID=America/Denver:20191125T203000
DTSTAMP:20260422T035630
CREATED:20191111T164554Z
LAST-MODIFIED:20191111T164554Z
UID:6588-1574708400-1574713800@academyosr.com
SUMMARY:Introduction of "The Path to Self-Reliance" - South Jordan
DESCRIPTION:Introduction of “The Path to Self-Reliance”\nLive\, low-key presentation for those who have interest in becoming more self-reliant.\nMonday. Nov. 25th at 7pm at South Jordan Public Library\, 10673 S Redwood Rd. \nPhilip Gleason\, founder of the 501(c)(3) non-profit\, The Academy of Self-Reliance\, will discuss: \n\nThe Academy of Self-Reliance’s free webinar series on self-reliance topics\,\nIt’s program to help families make a very real and detailed plan to achieve greater self-reliance\, and\,\nA brief introduction to the 1\,245 acre Riverbed Ranch agricultural co-op & self-reliance community they’re building in Juab County (and Texas next).\n\nRSVP by clicking “Going” on the Facebook event so we know how many to expect.\nOr\, if you’re not on Facebook\, email Jesse at jfisher@AcademyOSR.com.
URL:https://academyosr.com/event/introduction-of-the-path-to-self-reliance-south-jordan/
LOCATION:South Jordan Library\, 10673 S Redwood Rd\, South Jordan\, UT\, 84095\, United States
CATEGORIES:Cottage Meetings
ATTACH;FMTTYPE=image/png:https://academyosr.com/wp-content/uploads/2019/10/Nov-2019-meeting-image-for-FB.png
ORGANIZER;CN="Jesse%20Fisher":MAILTO:jfisher@AcademyOSR.com
GEO:40.5573223;-111.9366924
X-APPLE-STRUCTURED-LOCATION;VALUE=URI;X-ADDRESS=South Jordan Library 10673 S Redwood Rd South Jordan UT 84095 United States;X-APPLE-RADIUS=500;X-TITLE=10673 S Redwood Rd:geo:-111.9366924,40.5573223
END:VEVENT
END:VCALENDAR