BEGIN:VCALENDAR
VERSION:2.0
PRODID:-//Academy of Self-Reliance - ECPv5.5.0.1//NONSGML v1.0//EN
CALSCALE:GREGORIAN
METHOD:PUBLISH
X-WR-CALNAME:Academy of Self-Reliance
X-ORIGINAL-URL:https://academyosr.com
X-WR-CALDESC:Events for Academy of Self-Reliance
BEGIN:VTIMEZONE
TZID:America/Denver
BEGIN:DAYLIGHT
TZOFFSETFROM:-0700
TZOFFSETTO:-0600
TZNAME:MDT
DTSTART:20230312T090000
END:DAYLIGHT
BEGIN:STANDARD
TZOFFSETFROM:-0600
TZOFFSETTO:-0700
TZNAME:MST
DTSTART:20231105T080000
END:STANDARD
END:VTIMEZONE
BEGIN:VEVENT
DTSTART;TZID=America/Denver:20231121T130000
DTEND;TZID=America/Denver:20231121T150000
DTSTAMP:20260420T042357
CREATED:20231113T202712Z
LAST-MODIFIED:20231113T202712Z
UID:21985-1700571600-1700578800@academyosr.com
SUMMARY:Coslor Cove Tour 1pm
DESCRIPTION:
URL:https://academyosr.com/event/coslor-cove-tour-1pm/
LOCATION:Coslor Cove\, AZ\, United States
GEO:34.0489281;-111.0937311
END:VEVENT
END:VCALENDAR